BEGIN:VCALENDAR
VERSION:2.0
PRODID:-//Liever Ier As Tuus - ECPv6.15.20//NONSGML v1.0//EN
CALSCALE:GREGORIAN
METHOD:PUBLISH
X-ORIGINAL-URL:https://www.lieverierastuus.eu
X-WR-CALDESC:Evenementen voor Liever Ier As Tuus
REFRESH-INTERVAL;VALUE=DURATION:PT1H
X-Robots-Tag:noindex
X-PUBLISHED-TTL:PT1H
BEGIN:VTIMEZONE
TZID:Europe/Amsterdam
BEGIN:DAYLIGHT
TZOFFSETFROM:+0100
TZOFFSETTO:+0200
TZNAME:CEST
DTSTART:20150329T010000
END:DAYLIGHT
BEGIN:STANDARD
TZOFFSETFROM:+0200
TZOFFSETTO:+0100
TZNAME:CET
DTSTART:20151025T010000
END:STANDARD
BEGIN:DAYLIGHT
TZOFFSETFROM:+0100
TZOFFSETTO:+0200
TZNAME:CEST
DTSTART:20160327T010000
END:DAYLIGHT
BEGIN:STANDARD
TZOFFSETFROM:+0200
TZOFFSETTO:+0100
TZNAME:CET
DTSTART:20161030T010000
END:STANDARD
BEGIN:DAYLIGHT
TZOFFSETFROM:+0100
TZOFFSETTO:+0200
TZNAME:CEST
DTSTART:20170326T010000
END:DAYLIGHT
BEGIN:STANDARD
TZOFFSETFROM:+0200
TZOFFSETTO:+0100
TZNAME:CET
DTSTART:20171029T010000
END:STANDARD
END:VTIMEZONE
BEGIN:VEVENT
DTSTART;TZID=Europe/Amsterdam:20160514T120000
DTEND;TZID=Europe/Amsterdam:20160514T143000
DTSTAMP:20260423T110908
CREATED:20160330T210821Z
LAST-MODIFIED:20160510T144329Z
UID:314-1463227200-1463236200@www.lieverierastuus.eu
SUMMARY:Zeelandiarun Molenberg
DESCRIPTION:
URL:https://www.lieverierastuus.eu/agenda/zeelandiarun-molenberg/
LOCATION:de Molenberg\, Hogeweg 53\, 4328 PB Burgh-Haamstede
END:VEVENT
BEGIN:VEVENT
DTSTART;TZID=Europe/Amsterdam:20160311T221500
DTEND;TZID=Europe/Amsterdam:20160311T231500
DTSTAMP:20260423T110909
CREATED:20160306T095600Z
LAST-MODIFIED:20160306T095600Z
UID:283-1457734500-1457738100@www.lieverierastuus.eu
SUMMARY:Tiroler Dinner
DESCRIPTION:Wij spelen op het Tiroler Dinner van het Bru’s Running Team ten behoeve van hun deelname aan de Roparun.
URL:https://www.lieverierastuus.eu/agenda/tiroler-dinner/
LOCATION:De Meeuw\, Bruinisse
END:VEVENT
END:VCALENDAR